Package: SWATH2stats Version: 1.39.0 Command: rm -rf SWATH2stats.buildbin-libdir && mkdir SWATH2stats.buildbin-libdir && /Users/biocbuild/BBS/utils/build-universal.sh SWATH2stats_1.39.0.tar.gz /Library/Frameworks/R.framework/Resources/bin/R SWATH2stats.buildbin-libdir StartedAt: 2025-05-10 01:13:11 -0400 (Sat, 10 May 2025) EndedAt: 2025-05-10 01:13:38 -0400 (Sat, 10 May 2025) EllapsedTime: 26.6 seconds RetCode: 0 Status: OK PackageFile: SWATH2stats_1.39.0.tgz PackageFileSize: 3.163 MiB