Package: SVP Version: 1.1.0 Command: /home/biocbuild/bbs-3.22-bioc/R/bin/R CMD INSTALL SVP StartedAt: 2025-10-02 15:20:36 -0400 (Thu, 02 Oct 2025) EndedAt: 2025-10-02 15:23:22 -0400 (Thu, 02 Oct 2025) EllapsedTime: 166.4 seconds RetCode: 0 Status: OK