Package: SVP Version: 1.3.1 Command: /Library/Frameworks/R.framework/Resources/bin/R CMD INSTALL SVP StartedAt: 2025-11-23 15:32:05 -0500 (Sun, 23 Nov 2025) EndedAt: 2025-11-23 15:34:58 -0500 (Sun, 23 Nov 2025) EllapsedTime: 172.7 seconds RetCode: 0 Status: OK