Package: SVP Version: 1.3.1 Command: rm -rf SVP.buildbin-libdir && mkdir SVP.buildbin-libdir && /Users/biocbuild/BBS/utils/build-universal.sh SVP_1.3.1.tar.gz /Library/Frameworks/R.framework/Resources/bin/R SVP.buildbin-libdir StartedAt: 2025-11-24 02:02:55 -0500 (Mon, 24 Nov 2025) EndedAt: 2025-11-24 02:06:02 -0500 (Mon, 24 Nov 2025) EllapsedTime: 186.8 seconds RetCode: 0 Status: OK PackageFile: SVP_1.3.1.tgz PackageFileSize: 5.317 MiB