Package: SVMDO Version: 1.9.0 Command: /home/biocbuild/R/R/bin/R CMD build --keep-empty-dirs --no-resave-data SVMDO StartedAt: 2025-10-07 03:23:59 -0000 (Tue, 07 Oct 2025) EndedAt: 2025-10-07 03:24:49 -0000 (Tue, 07 Oct 2025) EllapsedTime: 50.0 seconds RetCode: 0 Status: OK PackageFile: SVMDO_1.9.0.tar.gz PackageFileSize: 2.403 MiB