Package: STATegRa Version: 1.45.0 Command: /home/biocbuild/bbs-3.22-bioc/R/bin/R CMD INSTALL STATegRa StartedAt: 2025-10-02 15:13:23 -0400 (Thu, 02 Oct 2025) EndedAt: 2025-10-02 15:13:36 -0400 (Thu, 02 Oct 2025) EllapsedTime: 12.4 seconds RetCode: 0 Status: OK