Package: STADyUM Version: 0.99.4 Command: /home/biocbuild/bbs-3.22-bioc/R/bin/R CMD INSTALL STADyUM StartedAt: 2025-10-23 15:34:00 -0400 (Thu, 23 Oct 2025) EndedAt: 2025-10-23 15:34:47 -0400 (Thu, 23 Oct 2025) EllapsedTime: 46.8 seconds RetCode: 0 Status: OK