Package: STADyUM Version: 1.1.0 Command: /Library/Frameworks/R.framework/Resources/bin/R CMD INSTALL STADyUM StartedAt: 2025-11-25 15:19:01 -0500 (Tue, 25 Nov 2025) EndedAt: 2025-11-25 15:19:09 -0500 (Tue, 25 Nov 2025) EllapsedTime: 7.7 seconds RetCode: 1 Status: ERROR