Package: SRAdb Version: 1.71.0 Command: /Library/Frameworks/R.framework/Resources/bin/R CMD build --keep-empty-dirs --no-resave-data SRAdb StartedAt: 2025-05-27 18:28:50 -0400 (Tue, 27 May 2025) EndedAt: 2025-05-27 18:29:04 -0400 (Tue, 27 May 2025) EllapsedTime: 13.7 seconds RetCode: 0 Status: OK PackageFile: SRAdb_1.71.0.tar.gz PackageFileSize: 889 KiB