Package: SRAdb Version: 1.71.0 Command: rm -rf SRAdb.buildbin-libdir && mkdir SRAdb.buildbin-libdir && /Users/biocbuild/BBS/utils/build-universal.sh SRAdb_1.71.0.tar.gz /Library/Frameworks/R.framework/Resources/bin/R SRAdb.buildbin-libdir StartedAt: 2025-05-28 01:04:40 -0400 (Wed, 28 May 2025) EndedAt: 2025-05-28 01:04:49 -0400 (Wed, 28 May 2025) EllapsedTime: 9.2 seconds RetCode: 0 Status: OK PackageFile: SRAdb_1.71.0.tgz PackageFileSize: 846.7 KiB