Package: SQLDataFrame Version: 1.23.0 Command: /home/biocbuild/R/R/bin/R CMD INSTALL SQLDataFrame StartedAt: 2025-07-24 21:17:10 -0000 (Thu, 24 Jul 2025) EndedAt: 2025-07-24 21:17:33 -0000 (Thu, 24 Jul 2025) EllapsedTime: 23.4 seconds RetCode: 0 Status: OK