Package: SQLDataFrame Version: 1.23.0 Command: /home/biocbuild/R/R/bin/R CMD build --keep-empty-dirs --no-resave-data SQLDataFrame StartedAt: 2025-07-25 04:10:40 -0000 (Fri, 25 Jul 2025) EndedAt: 2025-07-25 04:11:16 -0000 (Fri, 25 Jul 2025) EllapsedTime: 36.0 seconds RetCode: 0 Status: OK PackageFile: SQLDataFrame_1.23.0.tar.gz PackageFileSize: 261 KiB