Package: SQLDataFrame Version: 1.23.0 Command: chmod a+r SQLDataFrame -R && F:\biocbuild\bbs-3.22-bioc\R\bin\R.exe CMD build --keep-empty-dirs --no-resave-data SQLDataFrame StartedAt: 2025-07-24 22:37:40 -0400 (Thu, 24 Jul 2025) EndedAt: 2025-07-24 22:38:22 -0400 (Thu, 24 Jul 2025) EllapsedTime: 42.5 seconds RetCode: 0 Status: OK PackageFile: SQLDataFrame_1.23.0.tar.gz PackageFileSize: 235.1 KiB