Package: SQLDataFrame Version: 1.23.0 Command: rm -rf SQLDataFrame.buildbin-libdir && mkdir SQLDataFrame.buildbin-libdir && F:\biocbuild\bbs-3.22-bioc\R\bin\R.exe CMD INSTALL --build --library=SQLDataFrame.buildbin-libdir SQLDataFrame_1.23.0.tar.gz StartedAt: 2025-07-25 10:25:16 -0400 (Fri, 25 Jul 2025) EndedAt: 2025-07-25 10:26:14 -0400 (Fri, 25 Jul 2025) EllapsedTime: 57.6 seconds RetCode: 0 Status: OK PackageFile: SQLDataFrame_1.23.0.zip PackageFileSize: 574.8 KiB