Package: SQLDataFrame Version: 1.23.0 Maintainer: Qian Liu MaintainerEmail: Qian.Liu at RoswellPark.org git_url: https://git.bioconductor.org/packages/SQLDataFrame git_branch: devel git_last_commit: f23bd64 git_last_commit_date: 2025-04-15 11:47:04 -0400 (Tue, 15 Apr 2025)