Package: SPOTlight Version: 1.11.0 Command: E:\biocbuild\bbs-3.21-bioc\R\bin\R.exe CMD INSTALL SPOTlight StartedAt: 2025-02-03 16:43:37 -0500 (Mon, 03 Feb 2025) EndedAt: 2025-02-03 16:44:14 -0500 (Mon, 03 Feb 2025) EllapsedTime: 37.0 seconds RetCode: 0 Status: OK