Package: SPOTlight Version: 1.11.0 Command: rm -rf SPOTlight.buildbin-libdir && mkdir SPOTlight.buildbin-libdir && E:\biocbuild\bbs-3.21-bioc\R\bin\R.exe CMD INSTALL --build --library=SPOTlight.buildbin-libdir SPOTlight_1.11.0.tar.gz StartedAt: 2025-02-04 09:01:24 -0500 (Tue, 04 Feb 2025) EndedAt: 2025-02-04 09:01:55 -0500 (Tue, 04 Feb 2025) EllapsedTime: 31.5 seconds RetCode: 0 Status: OK PackageFile: SPOTlight_1.11.0.zip PackageFileSize: 1.495 MiB