Package: SPOTlight Version: 1.11.0 Command: /home/biocbuild/R/R/bin/R CMD INSTALL SPOTlight StartedAt: 2025-01-29 20:00:53 -0000 (Wed, 29 Jan 2025) EndedAt: 2025-01-29 20:01:30 -0000 (Wed, 29 Jan 2025) EllapsedTime: 37.2 seconds RetCode: 0 Status: OK