Package: SPOTlight Version: 1.15.0 Maintainer: Marc Elosua-Bayes MaintainerEmail: elosua.marc at gmail.com git_url: https://git.bioconductor.org/packages/SPOTlight git_branch: devel git_last_commit: b112ee3 git_last_commit_date: 2025-10-29 11:16:14 -0400 (Wed, 29 Oct 2025)