Package: SPONGE Version: 1.31.0 Command: /home/biocbuild/bbs-3.22-bioc/R/bin/R CMD INSTALL SPONGE StartedAt: 2025-10-03 15:30:06 -0400 (Fri, 03 Oct 2025) EndedAt: 2025-10-03 15:31:21 -0400 (Fri, 03 Oct 2025) EllapsedTime: 75.2 seconds RetCode: 0 Status: OK