Package: SPONGE Version: 1.31.0 Command: /home/biocbuild/bbs-3.22-bioc/R/bin/R CMD build --keep-empty-dirs --no-resave-data --md5 SPONGE StartedAt: 2025-10-03 20:16:12 -0400 (Fri, 03 Oct 2025) EndedAt: 2025-10-03 20:19:16 -0400 (Fri, 03 Oct 2025) EllapsedTime: 183.2 seconds RetCode: 0 Status: OK PackageFile: SPONGE_1.31.0.tar.gz PackageFileSize: 8.952 MiB