Package: SPICEY Version: 0.99.5 Command: /Library/Frameworks/R.framework/Resources/bin/R CMD INSTALL SPICEY StartedAt: 2025-10-19 15:21:25 -0400 (Sun, 19 Oct 2025) EndedAt: 2025-10-19 15:21:30 -0400 (Sun, 19 Oct 2025) EllapsedTime: 4.7 seconds RetCode: 0 Status: OK