Package: SPICEY Version: 1.1.0 Maintainer: Georgina Fuentes-Páez MaintainerEmail: georgina.fuentes at upf.edu git_url: https://git.bioconductor.org/packages/SPICEY git_branch: devel git_last_commit: a5c4c20 git_last_commit_date: 2025-10-29 11:37:52 -0500 (Wed, 29 Oct 2025)