Package: SPIAT Version: 1.9.0 Command: rm -rf SPIAT.buildbin-libdir && mkdir SPIAT.buildbin-libdir && E:\biocbuild\bbs-3.21-bioc\R\bin\R.exe CMD INSTALL --build --library=SPIAT.buildbin-libdir SPIAT_1.9.0.tar.gz StartedAt: 2025-02-04 09:00:39 -0500 (Tue, 04 Feb 2025) EndedAt: 2025-02-04 09:01:28 -0500 (Tue, 04 Feb 2025) EllapsedTime: 48.8 seconds RetCode: 0 Status: OK PackageFile: SPIAT_1.9.0.zip PackageFileSize: 4.211 MiB