Package: SPIA Version: 2.61.0 Command: chmod a+r SPIA -R && F:\biocbuild\bbs-3.22-bioc\R\bin\R.exe CMD build --keep-empty-dirs --no-resave-data SPIA StartedAt: 2025-08-14 23:30:00 -0400 (Thu, 14 Aug 2025) EndedAt: 2025-08-14 23:36:05 -0400 (Thu, 14 Aug 2025) EllapsedTime: 364.2 seconds RetCode: 0 Status: OK PackageFile: SPIA_2.61.0.tar.gz PackageFileSize: 2.449 MiB