Package: SPIA Version: 2.61.0 Command: rm -rf SPIA.buildbin-libdir && mkdir SPIA.buildbin-libdir && F:\biocbuild\bbs-3.22-bioc\R\bin\R.exe CMD INSTALL --build --library=SPIA.buildbin-libdir SPIA_2.61.0.tar.gz StartedAt: 2025-08-15 11:24:10 -0400 (Fri, 15 Aug 2025) EndedAt: 2025-08-15 11:24:22 -0400 (Fri, 15 Aug 2025) EllapsedTime: 11.5 seconds RetCode: 0 Status: OK PackageFile: SPIA_2.61.0.zip PackageFileSize: 2.443 MiB