Package: SPIA Version: 2.61.0 Command: /home/biocbuild/bbs-3.22-bioc/R/bin/R CMD INSTALL SPIA StartedAt: 2025-10-03 15:14:05 -0400 (Fri, 03 Oct 2025) EndedAt: 2025-10-03 15:14:10 -0400 (Fri, 03 Oct 2025) EllapsedTime: 4.7 seconds RetCode: 0 Status: OK