Package: SPIA Version: 2.61.0 Command: /home/biocbuild/bbs-3.22-bioc/R/bin/R CMD build --keep-empty-dirs --no-resave-data --md5 SPIA StartedAt: 2025-10-03 20:14:11 -0400 (Fri, 03 Oct 2025) EndedAt: 2025-10-03 20:19:24 -0400 (Fri, 03 Oct 2025) EllapsedTime: 312.3 seconds RetCode: 0 Status: OK PackageFile: SPIA_2.61.0.tar.gz PackageFileSize: 2.55 MiB