Package: SPIA Version: 2.61.0 Command: /Library/Frameworks/R.framework/Resources/bin/R CMD INSTALL SPIA StartedAt: 2025-05-22 15:27:59 -0400 (Thu, 22 May 2025) EndedAt: 2025-05-22 15:28:08 -0400 (Thu, 22 May 2025) EllapsedTime: 8.3 seconds RetCode: 0 Status: OK