Package: SPEM Version: 1.49.0 Command: chmod a+r SPEM -R && F:\biocbuild\bbs-3.22-bioc\R\bin\R.exe CMD build --keep-empty-dirs --no-resave-data SPEM StartedAt: 2025-08-14 23:29:48 -0400 (Thu, 14 Aug 2025) EndedAt: 2025-08-14 23:30:15 -0400 (Thu, 14 Aug 2025) EllapsedTime: 27.0 seconds RetCode: 0 Status: OK PackageFile: SPEM_1.49.0.tar.gz PackageFileSize: 469.2 KiB