Package: SPEM Version: 1.49.0 Command: rm -rf SPEM.buildbin-libdir && mkdir SPEM.buildbin-libdir && F:\biocbuild\bbs-3.22-bioc\R\bin\R.exe CMD INSTALL --build --library=SPEM.buildbin-libdir SPEM_1.49.0.tar.gz StartedAt: 2025-08-15 11:24:08 -0400 (Fri, 15 Aug 2025) EndedAt: 2025-08-15 11:24:26 -0400 (Fri, 15 Aug 2025) EllapsedTime: 17.2 seconds RetCode: 0 Status: OK PackageFile: SPEM_1.49.0.zip PackageFileSize: 368.7 KiB