Package: SPEM Version: 1.49.0 Command: rm -rf SPEM.buildbin-libdir && mkdir SPEM.buildbin-libdir && /Users/biocbuild/BBS/utils/build-universal.sh SPEM_1.49.0.tar.gz /Library/Frameworks/R.framework/Resources/bin/R SPEM.buildbin-libdir StartedAt: 2025-05-27 22:31:16 -0400 (Tue, 27 May 2025) EndedAt: 2025-05-27 22:31:18 -0400 (Tue, 27 May 2025) EllapsedTime: 2.0 seconds RetCode: 0 Status: OK PackageFile: SPEM_1.49.0.tgz PackageFileSize: 499.2 KiB