Package: SOMNiBUS Version: 1.15.1 Command: E:\biocbuild\bbs-3.21-bioc\R\bin\R.exe CMD INSTALL SOMNiBUS StartedAt: 2025-02-02 16:31:27 -0500 (Sun, 02 Feb 2025) EndedAt: 2025-02-02 16:32:24 -0500 (Sun, 02 Feb 2025) EllapsedTime: 57.7 seconds RetCode: 0 Status: OK