Package: SOMNiBUS Version: 1.15.1 Command: rm -rf SOMNiBUS.buildbin-libdir && mkdir SOMNiBUS.buildbin-libdir && E:\biocbuild\bbs-3.21-bioc\R\bin\R.exe CMD INSTALL --build --library=SOMNiBUS.buildbin-libdir SOMNiBUS_1.15.1.tar.gz StartedAt: 2025-02-04 08:59:00 -0500 (Tue, 04 Feb 2025) EndedAt: 2025-02-04 08:59:59 -0500 (Tue, 04 Feb 2025) EllapsedTime: 58.7 seconds RetCode: 0 Status: OK PackageFile: SOMNiBUS_1.15.1.zip PackageFileSize: 609.8 KiB