Package: SOMNiBUS Version: 1.17.0 Command: /home/biocbuild/bbs-3.22-bioc/R/bin/R CMD INSTALL SOMNiBUS StartedAt: 2025-10-03 15:41:57 -0400 (Fri, 03 Oct 2025) EndedAt: 2025-10-03 15:42:46 -0400 (Fri, 03 Oct 2025) EllapsedTime: 48.3 seconds RetCode: 0 Status: OK