Package: SOMNiBUS Version: 1.17.0 Command: /Library/Frameworks/R.framework/Resources/bin/R CMD INSTALL SOMNiBUS StartedAt: 2025-05-06 15:34:15 -0400 (Tue, 06 May 2025) EndedAt: 2025-05-06 15:35:21 -0400 (Tue, 06 May 2025) EllapsedTime: 66.6 seconds RetCode: 0 Status: OK