Package: SOMNiBUS Version: 1.17.0 Command: /Library/Frameworks/R.framework/Resources/bin/R CMD check --install=check:SOMNiBUS.install-out.txt --library=/Library/Frameworks/R.framework/Resources/library --no-vignettes --timings SOMNiBUS_1.17.0.tar.gz StartedAt: 2025-05-07 23:39:12 -0400 (Wed, 07 May 2025) EndedAt: 2025-05-07 23:54:55 -0400 (Wed, 07 May 2025) EllapsedTime: 942.9 seconds RetCode: 0 Status: OK CheckDir: SOMNiBUS.Rcheck Warnings: 0