Package: SOMNiBUS Version: 1.17.0 Command: /Library/Frameworks/R.framework/Resources/bin/R CMD build --keep-empty-dirs --no-resave-data SOMNiBUS StartedAt: 2025-05-07 18:30:17 -0400 (Wed, 07 May 2025) EndedAt: 2025-05-07 18:34:43 -0400 (Wed, 07 May 2025) EllapsedTime: 265.9 seconds RetCode: 0 Status: OK PackageFile: SOMNiBUS_1.17.0.tar.gz PackageFileSize: 1.029 MiB