Package: SOMNiBUS Version: 1.17.0 Command: rm -rf SOMNiBUS.buildbin-libdir && mkdir SOMNiBUS.buildbin-libdir && /Users/biocbuild/BBS/utils/build-universal.sh SOMNiBUS_1.17.0.tar.gz /Library/Frameworks/R.framework/Resources/bin/R SOMNiBUS.buildbin-libdir StartedAt: 2025-05-08 01:08:09 -0400 (Thu, 08 May 2025) EndedAt: 2025-05-08 01:09:19 -0400 (Thu, 08 May 2025) EllapsedTime: 69.5 seconds RetCode: 0 Status: OK PackageFile: SOMNiBUS_1.17.0.tgz PackageFileSize: 634.1 KiB