Package: SOMNiBUS Version: 1.17.0 Command: /Library/Frameworks/R.framework/Resources/bin/R CMD INSTALL SOMNiBUS StartedAt: 2025-04-29 15:21:46 -0400 (Tue, 29 Apr 2025) EndedAt: 2025-04-29 15:22:07 -0400 (Tue, 29 Apr 2025) EllapsedTime: 20.5 seconds RetCode: 0 Status: OK