Package: SOMNiBUS Version: 1.17.0 Command: /Library/Frameworks/R.framework/Resources/bin/R CMD build --keep-empty-dirs --no-resave-data SOMNiBUS StartedAt: 2025-04-30 17:40:31 -0400 (Wed, 30 Apr 2025) EndedAt: 2025-04-30 17:43:06 -0400 (Wed, 30 Apr 2025) EllapsedTime: 154.7 seconds RetCode: 0 Status: OK PackageFile: SOMNiBUS_1.17.0.tar.gz PackageFileSize: 1.029 MiB