Package: SOMNiBUS Version: 1.17.0 Command: rm -rf SOMNiBUS.buildbin-libdir && mkdir SOMNiBUS.buildbin-libdir && /Users/biocbuild/BBS/utils/build-universal.sh SOMNiBUS_1.17.0.tar.gz /Library/Frameworks/R.framework/Resources/bin/R SOMNiBUS.buildbin-libdir StartedAt: 2025-04-30 22:52:29 -0400 (Wed, 30 Apr 2025) EndedAt: 2025-04-30 22:52:51 -0400 (Wed, 30 Apr 2025) EllapsedTime: 21.4 seconds RetCode: 0 Status: OK PackageFile: SOMNiBUS_1.17.0.tgz PackageFileSize: 634.5 KiB