Package: SNPediaR Version: 1.35.0 Command: /home/biocbuild/bbs-3.22-bioc/R/bin/R CMD INSTALL SNPediaR StartedAt: 2025-10-06 15:02:08 -0400 (Mon, 06 Oct 2025) EndedAt: 2025-10-06 15:02:13 -0400 (Mon, 06 Oct 2025) EllapsedTime: 4.5 seconds RetCode: 0 Status: OK