Package: SNPRelate Version: 1.41.0 Command: E:\biocbuild\bbs-3.21-bioc\R\bin\R.exe CMD INSTALL SNPRelate StartedAt: 2025-02-05 15:25:13 -0500 (Wed, 05 Feb 2025) EndedAt: 2025-02-05 15:26:55 -0500 (Wed, 05 Feb 2025) EllapsedTime: 101.4 seconds RetCode: 0 Status: OK