Package: SNPRelate Version: 1.41.0 Command: E:\biocbuild\bbs-3.21-bioc\R\bin\R.exe CMD check --no-multiarch --install=check:SNPRelate.install-out.txt --library=E:\biocbuild\bbs-3.21-bioc\R\library --no-vignettes --timings SNPRelate_1.41.0.tar.gz StartedAt: 2025-02-06 06:05:13 -0500 (Thu, 06 Feb 2025) EndedAt: 2025-02-06 06:07:52 -0500 (Thu, 06 Feb 2025) EllapsedTime: 159.0 seconds RetCode: 0 Status: OK CheckDir: SNPRelate.Rcheck Warnings: 0