Package: SNPRelate Version: 1.41.0 Command: chmod a+r SNPRelate -R && E:\biocbuild\bbs-3.21-bioc\R\bin\R.exe CMD build --keep-empty-dirs --no-resave-data SNPRelate StartedAt: 2025-02-05 21:52:09 -0500 (Wed, 05 Feb 2025) EndedAt: 2025-02-05 21:54:36 -0500 (Wed, 05 Feb 2025) EllapsedTime: 147.0 seconds RetCode: 0 Status: OK PackageFile: SNPRelate_1.41.0.tar.gz PackageFileSize: 1.914 MiB