Package: SNPRelate Version: 1.41.0 Command: rm -rf SNPRelate.buildbin-libdir && mkdir SNPRelate.buildbin-libdir && E:\biocbuild\bbs-3.21-bioc\R\bin\R.exe CMD INSTALL --build --library=SNPRelate.buildbin-libdir SNPRelate_1.41.0.tar.gz StartedAt: 2025-02-06 09:05:28 -0500 (Thu, 06 Feb 2025) EndedAt: 2025-02-06 09:07:16 -0500 (Thu, 06 Feb 2025) EllapsedTime: 108.0 seconds RetCode: 0 Status: OK PackageFile: SNPRelate_1.41.0.zip PackageFileSize: 2.666 MiB