Package: SNPRelate Version: 1.41.0 Command: /home/biocbuild/bbs-3.21-bioc/R/bin/R CMD INSTALL SNPRelate StartedAt: 2025-02-03 15:16:20 -0500 (Mon, 03 Feb 2025) EndedAt: 2025-02-03 15:17:03 -0500 (Mon, 03 Feb 2025) EllapsedTime: 43.2 seconds RetCode: 0 Status: OK