Package: SNPRelate Version: 1.41.0 Command: /home/biocbuild/bbs-3.21-bioc/R/bin/R CMD check --install=check:SNPRelate.install-out.txt --library=/home/biocbuild/bbs-3.21-bioc/R/site-library --timings SNPRelate_1.41.0.tar.gz StartedAt: 2025-02-04 02:54:52 -0500 (Tue, 04 Feb 2025) EndedAt: 2025-02-04 02:56:46 -0500 (Tue, 04 Feb 2025) EllapsedTime: 114.1 seconds RetCode: 0 Status: OK CheckDir: SNPRelate.Rcheck Warnings: 0