Package: SNPRelate Version: 1.41.0 Command: /home/biocbuild/bbs-3.21-bioc/R/bin/R CMD build --keep-empty-dirs --no-resave-data SNPRelate StartedAt: 2025-02-03 19:29:28 -0500 (Mon, 03 Feb 2025) EndedAt: 2025-02-03 19:30:17 -0500 (Mon, 03 Feb 2025) EllapsedTime: 49.1 seconds RetCode: 0 Status: OK PackageFile: SNPRelate_1.41.0.tar.gz PackageFileSize: 3.302 MiB